BEGIN:VCALENDAR
VERSION:2.0
PRODID:-//Rehbergschule Herborn - ECPv6.15.11//NONSGML v1.0//EN
CALSCALE:GREGORIAN
METHOD:PUBLISH
X-WR-CALNAME:Rehbergschule Herborn
X-ORIGINAL-URL:https://rbs.lwv-hessen.de
X-WR-CALDESC:Veranstaltungen für Rehbergschule Herborn
REFRESH-INTERVAL;VALUE=DURATION:PT1H
X-Robots-Tag:noindex
X-PUBLISHED-TTL:PT1H
BEGIN:VTIMEZONE
TZID:Europe/Berlin
BEGIN:DAYLIGHT
TZOFFSETFROM:+0100
TZOFFSETTO:+0200
TZNAME:CEST
DTSTART:20240331T010000
END:DAYLIGHT
BEGIN:STANDARD
TZOFFSETFROM:+0200
TZOFFSETTO:+0100
TZNAME:CET
DTSTART:20241027T010000
END:STANDARD
BEGIN:DAYLIGHT
TZOFFSETFROM:+0100
TZOFFSETTO:+0200
TZNAME:CEST
DTSTART:20250330T010000
END:DAYLIGHT
BEGIN:STANDARD
TZOFFSETFROM:+0200
TZOFFSETTO:+0100
TZNAME:CET
DTSTART:20251026T010000
END:STANDARD
BEGIN:DAYLIGHT
TZOFFSETFROM:+0100
TZOFFSETTO:+0200
TZNAME:CEST
DTSTART:20260329T010000
END:DAYLIGHT
BEGIN:STANDARD
TZOFFSETFROM:+0200
TZOFFSETTO:+0100
TZNAME:CET
DTSTART:20261025T010000
END:STANDARD
BEGIN:DAYLIGHT
TZOFFSETFROM:+0100
TZOFFSETTO:+0200
TZNAME:CEST
DTSTART:20270328T010000
END:DAYLIGHT
BEGIN:STANDARD
TZOFFSETFROM:+0200
TZOFFSETTO:+0100
TZNAME:CET
DTSTART:20271031T010000
END:STANDARD
END:VTIMEZONE
BEGIN:VEVENT
DTSTART;VALUE=DATE:20250818
DTEND;VALUE=DATE:20260627
DTSTAMP:20260421T035320
CREATED:20191210T140816Z
LAST-MODIFIED:20250819T094048Z
UID:125-1755475200-1782518399@rbs.lwv-hessen.de
SUMMARY:Schuljahr 2025 / 2026
DESCRIPTION:Am Freitag\, 30. Januar 2026 endet das 1. Schulhalbjahr 2025 / 2026. \nAm Freitag\, 26. Juni 2026 endet das 2. Schulhalbjahr 2025 / 2026. \n 
URL:https://rbs.lwv-hessen.de/termin/zeugnisausgabe/
CATEGORIES:Neuigkeiten
ATTACH;FMTTYPE=image/jpeg:https://rbs.lwv-hessen.de/wp-content/uploads/2019/12/Kalender.jpg
END:VEVENT
BEGIN:VEVENT
DTSTART;VALUE=DATE:20260518
DTEND;VALUE=DATE:20260523
DTSTAMP:20260421T035320
CREATED:20200212T083819Z
LAST-MODIFIED:20250922T095239Z
UID:386-1779062400-1779494399@rbs.lwv-hessen.de
SUMMARY:Zentrale Abschlussprüfungen 2025/2026
DESCRIPTION:Zentrale Abschlussprüfungen (Hauptschule\, Gesamtschule\, Realschule) im Schuljahr 2025 / 2026 \n \nDie zentralen Abschlussarbeiten in den Bildungsgängen Realschule und Hauptschule werden im Zeitraum vom 18.05. bis zum 22.05.2026 durchgeführt..\n \n  \n\n\n\nPrüfungsabfolge für den Haupttermin\nDatum\nBildungsgang Hauptschule\nBildungsgang Realschule\n\n\n\n\nMontag\n18.05.2026\n           Mathematik\n           Deutsch\n\n\nMittwoch\n20.05.2026\n           Deutsch\n           Englisch\n\n\nFreitag\n22.05.2026\n           Englisch\n           Mathematik\n\n\n\n  \nDie schriftlichen Prüfungen des Nachtermins werden im Zeitraum vom 01.06. bis zum 03.06.2026 durchgeführt:  \n\n\n\nPrüfungsabfolge für den Nachtermin\nDatum\nBildungsgang Hauptschule\nBildungsgang Realschule\n\n\n\n\nMontag\n01.06.2026\n            Mathematik\n            Deutsch\n\n\nDienstag\n02.06.2026\n             Deutsch\n            Englisch\n\n\nMittwoch\n03.06.2026\n             Englisch\n            Mathematik\n\n\n\n  \nweitere Informationen findest Du unter folgendem Link des Hessischen Kultusministeriums: \nHesssisches Kultusministerium – Zentrale Abschlussprüfungen
URL:https://rbs.lwv-hessen.de/termin/abschlusspruefung/
CATEGORIES:Neuigkeiten
ATTACH;FMTTYPE=image/jpeg:https://rbs.lwv-hessen.de/wp-content/uploads/2019/12/Kalender.jpg
END:VEVENT
END:VCALENDAR